BEGIN:VCALENDAR
VERSION:2.0
PRODID:-//Ingraham Environmental Inc - ECPv6.15.20//NONSGML v1.0//EN
CALSCALE:GREGORIAN
METHOD:PUBLISH
X-ORIGINAL-URL:https://ieimt.com
X-WR-CALDESC:Events for Ingraham Environmental Inc
REFRESH-INTERVAL;VALUE=DURATION:PT1H
X-Robots-Tag:noindex
X-PUBLISHED-TTL:PT1H
BEGIN:VTIMEZONE
TZID:America/Denver
BEGIN:DAYLIGHT
TZOFFSETFROM:-0700
TZOFFSETTO:-0600
TZNAME:MDT
DTSTART:20250309T090000
END:DAYLIGHT
BEGIN:STANDARD
TZOFFSETFROM:-0600
TZOFFSETTO:-0700
TZNAME:MST
DTSTART:20251102T080000
END:STANDARD
BEGIN:DAYLIGHT
TZOFFSETFROM:-0700
TZOFFSETTO:-0600
TZNAME:MDT
DTSTART:20260308T090000
END:DAYLIGHT
BEGIN:STANDARD
TZOFFSETFROM:-0600
TZOFFSETTO:-0700
TZNAME:MST
DTSTART:20261101T080000
END:STANDARD
BEGIN:DAYLIGHT
TZOFFSETFROM:-0700
TZOFFSETTO:-0600
TZNAME:MDT
DTSTART:20270314T090000
END:DAYLIGHT
BEGIN:STANDARD
TZOFFSETFROM:-0600
TZOFFSETTO:-0700
TZNAME:MST
DTSTART:20271107T080000
END:STANDARD
END:VTIMEZONE
BEGIN:VEVENT
DTSTART;TZID=America/Denver:20260210T080000
DTEND;TZID=America/Denver:20260213T163000
DTSTAMP:20260425T070143
CREATED:20260210T195855Z
LAST-MODIFIED:20260210T195855Z
UID:347-1770710400-1771000200@ieimt.com
SUMMARY:26012 CSI
DESCRIPTION:
URL:https://ieimt.com/event/26012-csi/
LOCATION:Ingraham Butte Classroom\, 606 Utah Ave\, Butte\, MT\, 59701\, United States
ORGANIZER;CN="Ingraham Environmental":MAILTO:class@ieimt.com
END:VEVENT
BEGIN:VEVENT
DTSTART;TZID=America/Denver:20260224T083000
DTEND;TZID=America/Denver:20260226T163000
DTSTAMP:20260425T070143
CREATED:20260210T201855Z
LAST-MODIFIED:20260210T201855Z
UID:349-1771921800-1772123400@ieimt.com
SUMMARY:26013 INI
DESCRIPTION:
URL:https://ieimt.com/event/26013-ini/
LOCATION:Ingraham Butte Classroom\, 606 Utah Ave\, Butte\, MT\, 59701\, United States
ORGANIZER;CN="Ingraham Environmental":MAILTO:class@ieimt.com
END:VEVENT
END:VCALENDAR