BEGIN:VCALENDAR
VERSION:2.0
PRODID:-//Ingraham Environmental Inc - ECPv6.15.20//NONSGML v1.0//EN
CALSCALE:GREGORIAN
METHOD:PUBLISH
X-WR-CALNAME:Ingraham Environmental Inc
X-ORIGINAL-URL:https://ieimt.com
X-WR-CALDESC:Events for Ingraham Environmental Inc
REFRESH-INTERVAL;VALUE=DURATION:PT1H
X-Robots-Tag:noindex
X-PUBLISHED-TTL:PT1H
BEGIN:VTIMEZONE
TZID:America/Denver
BEGIN:DAYLIGHT
TZOFFSETFROM:-0700
TZOFFSETTO:-0600
TZNAME:MDT
DTSTART:20250309T090000
END:DAYLIGHT
BEGIN:STANDARD
TZOFFSETFROM:-0600
TZOFFSETTO:-0700
TZNAME:MST
DTSTART:20251102T080000
END:STANDARD
BEGIN:DAYLIGHT
TZOFFSETFROM:-0700
TZOFFSETTO:-0600
TZNAME:MDT
DTSTART:20260308T090000
END:DAYLIGHT
BEGIN:STANDARD
TZOFFSETFROM:-0600
TZOFFSETTO:-0700
TZNAME:MST
DTSTART:20261101T080000
END:STANDARD
BEGIN:DAYLIGHT
TZOFFSETFROM:-0700
TZOFFSETTO:-0600
TZNAME:MDT
DTSTART:20270314T090000
END:DAYLIGHT
BEGIN:STANDARD
TZOFFSETFROM:-0600
TZOFFSETTO:-0700
TZNAME:MST
DTSTART:20271107T080000
END:STANDARD
END:VTIMEZONE
BEGIN:VEVENT
DTSTART;TZID=America/Denver:20260901T083000
DTEND;TZID=America/Denver:20260901T163000
DTSTAMP:20260425T091240
CREATED:20260210T203403Z
LAST-MODIFIED:20260210T203403Z
UID:370-1788251400-1788280200@ieimt.com
SUMMARY:26029 PDR
DESCRIPTION:
URL:https://ieimt.com/event/26029-pdr/
LOCATION:Ingraham Environmental Online
ORGANIZER;CN="Ingraham Environmental":MAILTO:class@ieimt.com
END:VEVENT
BEGIN:VEVENT
DTSTART;TZID=America/Denver:20260908T083000
DTEND;TZID=America/Denver:20260908T163000
DTSTAMP:20260425T091240
CREATED:20260210T203451Z
LAST-MODIFIED:20260210T203451Z
UID:372-1788856200-1788885000@ieimt.com
SUMMARY:26030 CSR
DESCRIPTION:
URL:https://ieimt.com/event/26030-csr/
LOCATION:Ingraham Environmental Online
ORGANIZER;CN="Ingraham Environmental":MAILTO:class@ieimt.com
END:VEVENT
BEGIN:VEVENT
DTSTART;TZID=America/Denver:20260929T083000
DTEND;TZID=America/Denver:20260929T123000
DTSTAMP:20260425T091240
CREATED:20260210T203709Z
LAST-MODIFIED:20260210T203709Z
UID:376-1790670600-1790685000@ieimt.com
SUMMARY:26032 INR
DESCRIPTION:
URL:https://ieimt.com/event/26032-inr/
LOCATION:Ingraham Environmental Online
ORGANIZER;CN="Ingraham Environmental":MAILTO:class@ieimt.com
END:VEVENT
BEGIN:VEVENT
DTSTART;TZID=America/Denver:20260929T130000
DTEND;TZID=America/Denver:20260929T170000
DTSTAMP:20260425T091240
CREATED:20260210T203622Z
LAST-MODIFIED:20260210T203622Z
UID:374-1790686800-1790701200@ieimt.com
SUMMARY:26031 MPR
DESCRIPTION:
URL:https://ieimt.com/event/26031-mpr/
LOCATION:Ingraham Environmental Online
ORGANIZER;CN="Ingraham Environmental":MAILTO:class@ieimt.com
END:VEVENT
END:VCALENDAR