BEGIN:VCALENDAR
VERSION:2.0
PRODID:-//Ingraham Environmental Inc - ECPv6.15.20//NONSGML v1.0//EN
CALSCALE:GREGORIAN
METHOD:PUBLISH
X-ORIGINAL-URL:https://ieimt.com
X-WR-CALDESC:Events for Ingraham Environmental Inc
REFRESH-INTERVAL;VALUE=DURATION:PT1H
X-Robots-Tag:noindex
X-PUBLISHED-TTL:PT1H
BEGIN:VTIMEZONE
TZID:America/Denver
BEGIN:DAYLIGHT
TZOFFSETFROM:-0700
TZOFFSETTO:-0600
TZNAME:MDT
DTSTART:20250309T090000
END:DAYLIGHT
BEGIN:STANDARD
TZOFFSETFROM:-0600
TZOFFSETTO:-0700
TZNAME:MST
DTSTART:20251102T080000
END:STANDARD
BEGIN:DAYLIGHT
TZOFFSETFROM:-0700
TZOFFSETTO:-0600
TZNAME:MDT
DTSTART:20260308T090000
END:DAYLIGHT
BEGIN:STANDARD
TZOFFSETFROM:-0600
TZOFFSETTO:-0700
TZNAME:MST
DTSTART:20261101T080000
END:STANDARD
BEGIN:DAYLIGHT
TZOFFSETFROM:-0700
TZOFFSETTO:-0600
TZNAME:MDT
DTSTART:20270314T090000
END:DAYLIGHT
BEGIN:STANDARD
TZOFFSETFROM:-0600
TZOFFSETTO:-0700
TZNAME:MST
DTSTART:20271107T080000
END:STANDARD
END:VTIMEZONE
BEGIN:VEVENT
DTSTART;TZID=America/Denver:20261201T083000
DTEND;TZID=America/Denver:20261201T163000
DTSTAMP:20260425T125804
CREATED:20260210T204240Z
LAST-MODIFIED:20260210T204240Z
UID:384-1796113800-1796142600@ieimt.com
SUMMARY:26036 PDR
DESCRIPTION:
URL:https://ieimt.com/event/26036-pdr/
LOCATION:Ingraham Environmental Online
ORGANIZER;CN="Ingraham Environmental":MAILTO:class@ieimt.com
END:VEVENT
BEGIN:VEVENT
DTSTART;TZID=America/Denver:20261215T083000
DTEND;TZID=America/Denver:20261215T163000
DTSTAMP:20260425T125804
CREATED:20260210T204334Z
LAST-MODIFIED:20260210T204334Z
UID:386-1797323400-1797352200@ieimt.com
SUMMARY:26037 CSR
DESCRIPTION:
URL:https://ieimt.com/event/26037-csr/
LOCATION:Ingraham Environmental Online
ORGANIZER;CN="Ingraham Environmental":MAILTO:class@ieimt.com
END:VEVENT
BEGIN:VEVENT
DTSTART;TZID=America/Denver:20261229T083000
DTEND;TZID=America/Denver:20261229T123000
DTSTAMP:20260425T125804
CREATED:20260210T204418Z
LAST-MODIFIED:20260210T204418Z
UID:388-1798533000-1798547400@ieimt.com
SUMMARY:26038 INR
DESCRIPTION:
URL:https://ieimt.com/event/26038-inr/
LOCATION:Ingraham Environmental Online
ORGANIZER;CN="Ingraham Environmental":MAILTO:class@ieimt.com
END:VEVENT
BEGIN:VEVENT
DTSTART;TZID=America/Denver:20261231T083000
DTEND;TZID=America/Denver:20261231T163000
DTSTAMP:20260425T125804
CREATED:20260210T204509Z
LAST-MODIFIED:20260210T204509Z
UID:390-1798705800-1798734600@ieimt.com
SUMMARY:26039 CSR
DESCRIPTION:
URL:https://ieimt.com/event/26039-csr/
LOCATION:Ingraham Environmental Online
ORGANIZER;CN="Ingraham Environmental":MAILTO:class@ieimt.com
END:VEVENT
END:VCALENDAR